Workbook

Sheet 1일
B2: 차 량 운 행 일 지
B6: ❏ 차 량 번 호 : | D6: 1885
B7: ❏ 날 짜: | C7: 2024년 | E7: 3 | F7: 1 | G7: 금 | H7: 요일 | O7: 기사: | P7: 홍길동
B8: 사 용 자 | C8: 주 행 | K8: 사 용 | L8: 사용목적 | M8: 하이패스 통행료 | N8: 주차료 | O8: 터널 및 현금통행료 | P8: 비 고
C9: 출 발 시 간 | E9: 도 착 시 간 | G9: 장 소 | I9: 주행(㎞) | J9: 총주행(㎞) | K9: 시 간
C10: 9 | D10: 0 | E10: 9 | F10: 20 | G10: 마포 | I10: 3 | J10: 830 | K10: 20 | L10: 업무 | P10: 출고시
C11: 9 | D11: 20 | E11: 10 | F11: 0 | G11: 역삼 | I11: 16 | J11: =I11+J10 -> 846 | K11: 40 | L11: "
C12: 12 | D12: 10 | E12: 12 | F12: 20 | G12: 역삼 | I12: 2 | J12: =I12+J11 -> 848 | K12: 10 | L12: " | N12: 4000 | P12: 730
C13: 13 | D13: 30 | E13: 14 | F13: 0 | G13: 관악 | I13: 12 | J13: =I13+J12 -> 860 | K13: 30 | L13: " | M13: 3000 | P13: 입고시
C14: 16 | D14: 50 | E14: 17 | F14: 40 | G14: 마포 | I14: 12 | J14: =I14+J13 -> 872 | K14: 50 | L14: "
C15: 17 | D15: 40 | E15: 18 | F15: 0 | G15: 신촌 | I15: 3 | J15: =I15+J14 -> 875 | K15: 20 | L15: " | P15: 875
P16: 총주행거리
P17: 합계
P18: =P15-P12 -> 145
P19: 연료주입
P20: 0
P21: 수리및기타
M24: =SUM(M10:M23) -> 3000 | N24: =SUM(N10:N23) -> 4000 | O24: =SUM(O10:O23) -> 0

Sheet 2일
B2: 차 량 운 행 일 지
B6: ❏ 차 량 번 호 : | D6: ='1일'!D6 -> 1885
B7: ❏ 날 짜: | C7: ='1일'!C7 -> 2024년 | E7: ='1일'!E7 -> 3 | F7: 2 | G7: 토 | H7: 요일 | O7: 기사: | P7: ='1일'!P7 -> 홍길동
B8: 사 용 자 | C8: 주 행 | K8: 사 용 | L8: 사용목적 | M8: 하이패스 통행료 | N8: 주차료 | O8: 터널 및 현금통행료 | P8: 비 고
C9: 출 발 시 간 | E9: 도 착 시 간 | G9: 장 소 | I9: 주행(㎞) | J9: 총주행(㎞) | K9: 시 간
P10: 출고시
P12: ='1일'!P15 -> 875
P13: 입고시
P15: 887
P16: 총주행거리
P17: 합계
P18: =P15-P12 -> 12
P19: 연료주입
P21: 수리및기타
M24: =SUM(M10:M23) -> 0 | N24: =SUM(N10:N23) -> 0 | O24: =SUM(O10:O23) -> 0

Sheet 3일
B2: 차 량 운 행 일 지
B6: ❏ 차 량 번 호 : | D6: ='2일'!D6 -> 1885
B7: ❏ 날 짜: | C7: ='1일'!C7 -> 2024년 | E7: ='1일'!E7 -> 3 | F7: 3 | G7: 일 | H7: 요일 | O7: 기사: | P7: ='1일'!P7 -> 홍길동
B8: 사 용 자 | C8: 주 행 | K8: 사 용 | L8: 사용목적 | M8: 하이패스 통행료 | N8: 주차료 | O8: 터널 및 현금통행료 | P8: 비 고
C9: 출 발 시 간 | E9: 도 착 시 간 | G9: 장 소 | I9: 주행(㎞) | J9: 총주행(㎞) | K9: 시 간
P10: 출고시
P12: ='2일'!P15 -> 887
P13: 입고시
P15: =P12 -> 887
P16: 총주행거리
P17: 합계
P18: =P15-P12 -> 0
P19: 연료주입
P21: 수리및기타
M24: =SUM(M10:M23) -> 0 | N24: =SUM(N10:N23) -> 0 | O24: =SUM(O10:O23) -> 0

Sheet 4일
B2: 차 량 운 행 일 지
B6: ❏ 차 량 번 호 : | D6: ='3일'!D6 -> 1885
B7: ❏ 날 짜: | C7: ='1일'!C7 -> 2024년 | E7: ='1일'!E7 -> 3 | F7: 4 | G7: 월 | H7: 요일 | O7: 기사: | P7: ='1일'!P7 -> 홍길동
B8: 사 용 자 | C8: 주 행 | K8: 사 용 | L8: 사용목적 | M8: 하이패스 통행료 | N8: 주차료 | O8: 터널 및 현금통행료 | P8: 비 고
C9: 출 발 시 간 | E9: 도 착 시 간 | G9: 장 소 | I9: 주행(㎞) | J9: 총주행(㎞) | K9: 시 간
P10: 출고시
P12: ='3일'!P15 -> 887
P13: 입고시
P15: 912
P16: 총주행거리
P17: 합계
P18: =P15-P12 -> 25
P19: 연료주입
P21: 수리및기타
M24: =SUM(M10:M23) -> 0 | N24: =SUM(N10:N23) -> 0 | O24: =SUM(O10:O23) -> 0

Sheet 5일
B2: 차 량 운 행 일 지
B6: ❏ 차 량 번 호 : | D6: ='4일'!D6 -> 1885
B7: ❏ 날 짜: | C7: ='1일'!C7 -> 2024년 | E7: ='1일'!E7 -> 3 | F7: 5 | G7: 화 | H7: 요일 | O7: 기사: | P7: ='1일'!P7 -> 홍길동
B8: 사 용 자 | C8: 주 행 | K8: 사 용 | L8: 사용목적 | M8: 하이패스 통행료 | N8: 주차료 | O8: 터널 및 현금통행료 | P8: 비 고
C9: 출 발 시 간 | E9: 도 착 시 간 | G9: 장 소 | I9: 주행(㎞) | J9: 총주행(㎞) | K9: 시 간
P10: 출고시
P12: ='4일'!P15 -> 912
P13: 입고시
P15: 939
P16: 총주행거리
P17: 합계
P18: =P15-P12 -> 27
P19: 연료주입
P20: 53
P21: 수리및기타
M24: =SUM(M10:M23) -> 0 | N24: =SUM(N10:N23) -> 0 | O24: =SUM(O10:O23) -> 0

Sheet 6일
B2: 차 량 운 행 일 지
B6: ❏ 차 량 번 호 : | D6: ='5일'!D6 -> 1885
B7: ❏ 날 짜: | C7: ='1일'!C7 -> 2024년 | E7: ='1일'!E7 -> 3 | F7: 6 | G7: 수 | H7: 요일 | O7: 기사: | P7: ='1일'!P7 -> 홍길동
B8: 사 용 자 | C8: 주 행 | K8: 사 용 | L8: 사용목적 | M8: 하이패스 통행료 | N8: 주차료 | O8: 터널 및 현금통행료 | P8: 비 고
C9: 출 발 시 간 | E9: 도 착 시 간 | G9: 장 소 | I9: 주행(㎞) | J9: 총주행(㎞) | K9: 시 간
P10: 출고시
P12: ='5일'!P15 -> 939
P13: 입고시
P15: 982
P16: 총주행거리
P17: 합계
P18: =P15-P12 -> 43
P19: 연료주입
P21: 수리및기타
M24: =SUM(M10:M23) -> 0 | N24: =SUM(N10:N23) -> 0 | O24: =SUM(O10:O23) -> 0

Sheet 7일
B2: 차 량 운 행 일 지
B6: ❏ 차 량 번 호 : | D6: ='6일'!D6 -> 1885
B7: ❏ 날 짜: | C7: ='1일'!C7 -> 2024년 | E7: ='1일'!E7 -> 3 | F7: 7 | G7: 목 | H7: 요일 | O7: 기사: | P7: ='1일'!P7 -> 홍길동
B8: 사 용 자 | C8: 주 행 | K8: 사 용 | L8: 사용목적 | M8: 하이패스 통행료 | N8: 주차료 | O8: 터널 및 현금통행료 | P8: 비 고
C9: 출 발 시 간 | E9: 도 착 시 간 | G9: 장 소 | I9: 주행(㎞) | J9: 총주행(㎞) | K9: 시 간
P10: 출고시
P12: ='6일'!P15 -> 982
P13: 입고시
P15: 1040
P16: 총주행거리
P17: 합계
P18: =P15-P12 -> 58
P19: 연료주입
P21: 수리및기타
M24: =SUM(M10:M23) -> 0 | N24: =SUM(N10:N23) -> 0 | O24: =SUM(O10:O23) -> 0

Sheet 8일
B2: 차 량 운 행 일 지
B6: ❏ 차 량 번 호 : | D6: ='7일'!D6 -> 1885
B7: ❏ 날 짜: | C7: ='1일'!C7 -> 2024년 | E7: ='1일'!E7 -> 3 | F7: 8 | G7: 금 | H7: 요일 | O7: 기사: | P7: ='1일'!P7 -> 홍길동
B8: 사 용 자 | C8: 주 행 | K8: 사 용 | L8: 사용목적 | M8: 하이패스 통행료 | N8: 주차료 | O8: 터널 및 현금통행료 | P8: 비 고
C9: 출 발 시 간 | E9: 도 착 시 간 | G9: 장 소 | I9: 주행(㎞) | J9: 총주행(㎞) | K9: 시 간
P10: 출고시
P12: ='7일'!P15 -> 1040
P13: 입고시
P15: 1061
P16: 총주행거리
P17: 합계
P18: =P15-P12 -> 21
P19: 연료주입
P20: 48
P21: 수리및기타
M24: =SUM(M10:M23) -> 0 | N24: =SUM(N10:N23) -> 0 | O24: =SUM(O10:O23) -> 0

Sheet 9일
B2: 차 량 운 행 일 지
B6: ❏ 차 량 번 호 : | D6: ='8일'!D6 -> 1885
B7: ❏ 날 짜: | C7: ='1일'!C7 -> 2024년 | E7: ='1일'!E7 -> 3 | F7: 9 | G7: 토 | H7: 요일 | O7: 기사: | P7: ='1일'!P7 -> 홍길동
B8: 사 용 자 | C8: 주 행 | K8: 사 용 | L8: 사용목적 | M8: 하이패스 통행료 | N8: 주차료 | O8: 터널 및 현금통행료 | P8: 비 고
C9: 출 발 시 간 | E9: 도 착 시 간 | G9: 장 소 | I9: 주행(㎞) | J9: 총주행(㎞) | K9: 시 간
P10: 출고시
P12: ='8일'!P15 -> 1061
P13: 입고시
P15: =P12 -> 1061
P16: 총주행거리
P17: 합계
P18: =P15-P12 -> 0
P19: 연료주입
P21: 수리및기타
M24: =SUM(M10:M23) -> 0 | N24: =SUM(N10:N23) -> 0 | O24: =SUM(O10:O23) -> 0

Sheet 10일
B2: 차 량 운 행 일 지
B6: ❏ 차 량 번 호 : | D6: ='9일'!D6 -> 1885
B7: ❏ 날 짜: | C7: ='1일'!C7 -> 2024년 | E7: ='1일'!E7 -> 3 | F7: 10 | G7: 일 | H7: 요일 | O7: 기사: | P7: ='1일'!P7 -> 홍길동
B8: 사 용 자 | C8: 주 행 | K8: 사 용 | L8: 사용목적 | M8: 하이패스 통행료 | N8: 주차료 | O8: 터널 및 현금통행료 | P8: 비 고
C9: 출 발 시 간 | E9: 도 착 시 간 | G9: 장 소 | I9: 주행(㎞) | J9: 총주행(㎞) | K9: 시 간
P10: 출고시
P12: ='9일'!P15 -> 1061
P13: 입고시
P15: =P12 -> 1061
P16: 총주행거리
P17: 합계
P18: =P15-P12 -> 0
P19: 연료주입
P21: 수리및기타
M24: =SUM(M10:M23) -> 0 | N24: =SUM(N10:N23) -> 0 | O24: =SUM(O10:O23) -> 0

Sheet 11일
B2: 차 량 운 행 일 지
B6: ❏ 차 량 번 호 : | D6: ='10일'!D6 -> 1885
B7: ❏ 날 짜: | C7: ='1일'!C7 -> 2024년 | E7: ='1일'!E7 -> 3 | F7: 11 | G7: 월 | H7: 요일 | O7: 기사: | P7: ='1일'!P7 -> 홍길동
B8: 사 용 자 | C8: 주 행 | K8: 사 용 | L8: 사용목적 | M8: 하이패스 통행료 | N8: 주차료 | O8: 터널 및 현금통행료 | P8: 비 고
C9: 출 발 시 간 | E9: 도 착 시 간 | G9: 장 소 | I9: 주행(㎞) | J9: 총주행(㎞) | K9: 시 간
P10: 출고시
P12: ='10일'!P15 -> 1061
P13: 입고시
P15: 1085
P16: 총주행거리
P17: 합계
P18: =P15-P12 -> 24
P19: 연료주입
P21: 수리및기타
M24: =SUM(M10:M23) -> 0 | N24: =SUM(N10:N23) -> 0 | O24: =SUM(O10:O23) -> 0

Sheet 12일
B2: 차 량 운 행 일 지
B6: ❏ 차 량 번 호 : | D6: ='11일'!D6 -> 1885
B7: ❏ 날 짜: | C7: ='1일'!C7 -> 2024년 | E7: ='1일'!E7 -> 3 | F7: 12 | G7: 화 | H7: 요일 | O7: 기사: | P7: ='1일'!P7 -> 홍길동
B8: 사 용 자 | C8: 주 행 | K8: 사 용 | L8: 사용목적 | M8: 하이패스 통행료 | N8: 주차료 | O8: 터널 및 현금통행료 | P8: 비 고
C9: 출 발 시 간 | E9: 도 착 시 간 | G9: 장 소 | I9: 주행(㎞) | J9: 총주행(㎞) | K9: 시 간
P10: 출고시
P12: ='11일'!P15 -> 1085
P13: 입고시
P15: 1097
P16: 총주행거리
P17: 합계
P18: =P15-P12 -> 12
P19: 연료주입
P21: 수리및기타
M24: =SUM(M10:M23) -> 0 | N24: =SUM(N10:N23) -> 0 | O24: =SUM(O10:O23) -> 0

Sheet 13일
B2: 차 량 운 행 일 지
B6: ❏ 차 량 번 호 : | D6: ='12일'!D6 -> 1885
B7: ❏ 날 짜: | C7: ='1일'!C7 -> 2024년 | E7: ='1일'!E7 -> 3 | F7: 13 | G7: 수 | H7: 요일 | O7: 기사: | P7: ='1일'!P7 -> 홍길동
B8: 사 용 자 | C8: 주 행 | K8: 사 용 | L8: 사용목적 | M8: 하이패스 통행료 | N8: 주차료 | O8: 터널 및 현금통행료 | P8: 비 고
C9: 출 발 시 간 | E9: 도 착 시 간 | G9: 장 소 | I9: 주행(㎞) | J9: 총주행(㎞) | K9: 시 간
P10: 출고시
P12: ='12일'!P15 -> 1097
P13: 입고시
P15: 1130
P16: 총주행거리
P17: 합계
P18: =P15-P12 -> 33
P19: 연료주입
P21: 수리및기타
M24: =SUM(M10:M23) -> 0 | N24: =SUM(N10:N23) -> 0 | O24: =SUM(O10:O23) -> 0

Sheet 14일
B2: 차 량 운 행 일 지
B6: ❏ 차 량 번 호 : | D6: ='13일'!D6 -> 1885
B7: ❏ 날 짜: | C7: ='1일'!C7 -> 2024년 | E7: ='1일'!E7 -> 3 | F7: 14 | G7: 목 | H7: 요일 | O7: 기사: | P7: ='1일'!P7 -> 홍길동
B8: 사 용 자 | C8: 주 행 | K8: 사 용 | L8: 사용목적 | M8: 하이패스 통행료 | N8: 주차료 | O8: 터널 및 현금통행료 | P8: 비 고
C9: 출 발 시 간 | E9: 도 착 시 간 | G9: 장 소 | I9: 주행(㎞) | J9: 총주행(㎞) | K9: 시 간
P10: 출고시
P12: ='13일'!P15 -> 1130
P13: 입고시
P15: 1157
P16: 총주행거리
P17: 합계
P18: =P15-P12 -> 27
P19: 연료주입
P21: 수리및기타
M24: =SUM(M10:M23) -> 0 | N24: =SUM(N10:N23) -> 0 | O24: =SUM(O10:O23) -> 0

Sheet 15일
B2: 차 량 운 행 일 지
B6: ❏ 차 량 번 호 : | D6: ='14일'!D6 -> 1885
B7: ❏ 날 짜: | C7: ='1일'!C7 -> 2024년 | E7: 3 | F7: 15 | G7: 금 | H7: 요일 | O7: 기사: | P7: ='1일'!P7 -> 홍길동
B8: 사 용 자 | C8: 주 행 | K8: 사 용 | L8: 사용목적 | M8: 하이패스 통행료 | N8: 주차료 | O8: 터널 및 현금통행료 | P8: 비 고
C9: 출 발 시 간 | E9: 도 착 시 간 | G9: 장 소 | I9: 주행(㎞) | J9: 총주행(㎞) | K9: 시 간
P10: 출고시
P12: ='14일'!P15 -> 1157
P13: 입고시
P15: 1193
P16: 총주행거리
P17: 합계
P18: =P15-P12 -> 36
P19: 연료주입
P20: 52
P21: 수리및기타
M24: =SUM(M10:M23) -> 0 | N24: =SUM(N10:N23) -> 0 | O24: =SUM(O10:O23) -> 0

Sheet 16일
B2: 차 량 운 행 일 지
B6: ❏ 차 량 번 호 : | D6: ='15일'!D6 -> 1885
B7: ❏ 날 짜: | C7: ='1일'!C7 -> 2024년 | E7: ='1일'!E7 -> 3 | F7: 16 | G7: 토 | H7: 요일 | O7: 기사: | P7: ='1일'!P7 -> 홍길동
B8: 사 용 자 | C8: 주 행 | K8: 사 용 | L8: 사용목적 | M8: 하이패스 통행료 | N8: 주차료 | O8: 터널 및 현금통행료 | P8: 비 고
C9: 출 발 시 간 | E9: 도 착 시 간 | G9: 장 소 | I9: 주행(㎞) | J9: 총주행(㎞) | K9: 시 간
P10: 출고시
P12: ='15일'!P15 -> 1193
P13: 입고시
P15: =P12 -> 1193
P16: 총주행거리
P17: 합계
P18: =P15-P12 -> 0
P19: 연료주입
P21: 수리및기타
M24: =SUM(M10:M23) -> 0 | N24: =SUM(N10:N23) -> 0 | O24: =SUM(O10:O23) -> 0

Sheet 17일
B2: 차 량 운 행 일 지
B6: ❏ 차 량 번 호 : | D6: ='16일'!D6 -> 1885
B7: ❏ 날 짜: | C7: ='1일'!C7 -> 2024년 | E7: ='1일'!E7 -> 3 | F7: 17 | G7: 일 | H7: 요일 | O7: 기사: | P7: ='1일'!P7 -> 홍길동
B8: 사 용 자 | C8: 주 행 | K8: 사 용 | L8: 사용목적 | M8: 하이패스 통행료 | N8: 주차료 | O8: 터널 및 현금통행료 | P8: 비 고
C9: 출 발 시 간 | E9: 도 착 시 간 | G9: 장 소 | I9: 주행(㎞) | J9: 총주행(㎞) | K9: 시 간
P10: 출고시
P12: ='16일'!P15 -> 1193
P13: 입고시
P15: =P12 -> 1193
P16: 총주행거리
P17: 합계
P18: =P15-P12 -> 0
P19: 연료주입
P21: 수리및기타
M24: =SUM(M10:M23) -> 0 | N24: =SUM(N10:N23) -> 0 | O24: =SUM(O10:O23) -> 0

Sheet 18일
B2: 차 량 운 행 일 지
B6: ❏ 차 량 번 호 : | D6: ='17일'!D6 -> 1885
B7: ❏ 날 짜: | C7: ='1일'!C7 -> 2024년 | E7: ='1일'!E7 -> 3 | F7: 18 | G7: 월 | H7: 요일 | O7: 기사: | P7: ='1일'!P7 -> 홍길동
B8: 사 용 자 | C8: 주 행 | K8: 사 용 | L8: 사용목적 | M8: 하이패스 통행료 | N8: 주차료 | O8: 터널 및 현금통행료 | P8: 비 고
C9: 출 발 시 간 | E9: 도 착 시 간 | G9: 장 소 | I9: 주행(㎞) | J9: 총주행(㎞) | K9: 시 간
P10: 출고시
P12: ='17일'!P15 -> 1193
P13: 입고시
P15: 1225
P16: 총주행거리
P17: 합계
P18: =P15-P12 -> 32
P19: 연료주입
P21: 수리및기타
M24: =SUM(M10:M23) -> 0 | N24: =SUM(N10:N23) -> 0 | O24: =SUM(O10:O23) -> 0

Sheet 19일
B2: 차 량 운 행 일 지
B6: ❏ 차 량 번 호 : | D6: ='18일'!D6 -> 1885
B7: ❏ 날 짜: | C7: ='1일'!C7 -> 2024년 | E7: ='1일'!E7 -> 3 | F7: 19 | G7: 화 | H7: 요일 | O7: 기사: | P7: ='1일'!P7 -> 홍길동
B8: 사 용 자 | C8: 주 행 | K8: 사 용 | L8: 사용목적 | M8: 하이패스 통행료 | N8: 주차료 | O8: 터널 및 현금통행료 | P8: 비 고
C9: 출 발 시 간 | E9: 도 착 시 간 | G9: 장 소 | I9: 주행(㎞) | J9: 총주행(㎞) | K9: 시 간
P10: 출고시
P12: ='18일'!P15 -> 1225
P13: 입고시
P15: 1244
P16: 총주행거리
P17: 합계
P18: =P15-P12 -> 19
P19: 연료주입
P21: 수리및기타
M24: =SUM(M10:M23) -> 0 | N24: =SUM(N10:N23) -> 0 | O24: =SUM(O10:O23) -> 0

Sheet 20일
B2: 차 량 운 행 일 지
B6: ❏ 차 량 번 호 : | D6: ='19일'!D6 -> 1885
B7: ❏ 날 짜: | C7: ='1일'!C7 -> 2024년 | E7: ='1일'!E7 -> 3 | F7: 20 | G7: 수 | H7: 요일 | O7: 기사: | P7: ='1일'!P7 -> 홍길동
B8: 사 용 자 | C8: 주 행 | K8: 사 용 | L8: 사용목적 | M8: 하이패스 통행료 | N8: 주차료 | O8: 터널 및 현금통행료 | P8: 비 고
C9: 출 발 시 간 | E9: 도 착 시 간 | G9: 장 소 | I9: 주행(㎞) | J9: 총주행(㎞) | K9: 시 간
P10: 출고시
P12: ='19일'!P15 -> 1244
P13: 입고시
P15: 1259
P16: 총주행거리
P17: 합계
P18: =P15-P12 -> 15
P19: 연료주입
P21: 수리및기타
M24: =SUM(M10:M23) -> 0 | N24: =SUM(N10:N23) -> 0 | O24: =SUM(O10:O23) -> 0

Sheet 21일
B2: 차 량 운 행 일 지
B6: ❏ 차 량 번 호 : | D6: ='20일'!D6 -> 1885
B7: ❏ 날 짜: | C7: ='1일'!C7 -> 2024년 | E7: ='1일'!E7 -> 3 | F7: 21 | G7: 목 | H7: 요일 | O7: 기사: | P7: ='1일'!P7 -> 홍길동
B8: 사 용 자 | C8: 주 행 | K8: 사 용 | L8: 사용목적 | M8: 하이패스 통행료 | N8: 주차료 | O8: 터널 및 현금통행료 | P8: 비 고
C9: 출 발 시 간 | E9: 도 착 시 간 | G9: 장 소 | I9: 주행(㎞) | J9: 총주행(㎞) | K9: 시 간
P10: 출고시
P12: ='20일'!P15 -> 1259
P13: 입고시
P15: 1394
P16: 총주행거리
P17: 합계
P18: =P15-P12 -> 135
P19: 연료주입
P20: 39
P21: 수리및기타
M24: =SUM(M10:M23) -> 0 | N24: =SUM(N10:N23) -> 0 | O24: =SUM(O10:O23) -> 0

Sheet 22일
B2: 차 량 운 행 일 지
B6: ❏ 차 량 번 호 : | D6: ='21일'!D6 -> 1885
B7: ❏ 날 짜: | C7: ='1일'!C7 -> 2024년 | E7: ='1일'!E7 -> 3 | F7: 22 | G7: 금 | H7: 요일 | O7: 기사: | P7: ='1일'!P7 -> 홍길동
B8: 사 용 자 | C8: 주 행 | K8: 사 용 | L8: 사용목적 | M8: 하이패스 통행료 | N8: 주차료 | O8: 터널 및 현금통행료 | P8: 비 고
C9: 출 발 시 간 | E9: 도 착 시 간 | G9: 장 소 | I9: 주행(㎞) | J9: 총주행(㎞) | K9: 시 간
P10: 출고시
P12: ='21일'!P15 -> 1394
P13: 입고시
P15: =P12 -> 1394
P16: 총주행거리
P17: 합계
P18: =P15-P12 -> 0
P19: 연료주입
P21: 수리및기타
M24: =SUM(M10:M23) -> 0 | N24: =SUM(N10:N23) -> 0 | O24: =SUM(O10:O23) -> 0

Sheet 23일
B2: 차 량 운 행 일 지
B6: ❏ 차 량 번 호 : | D6: ='22일'!D6 -> 1885
B7: ❏ 날 짜: | C7: ='1일'!C7 -> 2024년 | E7: ='1일'!E7 -> 3 | F7: 23 | G7: 토 | H7: 요일 | O7: 기사: | P7: ='1일'!P7 -> 홍길동
B8: 사 용 자 | C8: 주 행 | K8: 사 용 | L8: 사용목적 | M8: 하이패스 통행료 | N8: 주차료 | O8: 터널 및 현금통행료 | P8: 비 고
C9: 출 발 시 간 | E9: 도 착 시 간 | G9: 장 소 | I9: 주행(㎞) | J9: 총주행(㎞) | K9: 시 간
P10: 출고시
P12: ='22일'!P15 -> 1394
P13: 입고시
P15: =P12 -> 1394
P16: 총주행거리
P17: 합계
P18: =P15-P12 -> 0
P19: 연료주입
P21: 수리및기타
M24: =SUM(M10:M23) -> 0 | N24: =SUM(N10:N23) -> 0 | O24: =SUM(O10:O23) -> 0

Sheet 24일
B2: 차 량 운 행 일 지
B6: ❏ 차 량 번 호 : | D6: ='23일'!D6 -> 1885
B7: ❏ 날 짜: | C7: ='1일'!C7 -> 2024년 | E7: ='1일'!E7 -> 3 | F7: 24 | G7: 일 | H7: 요일 | O7: 기사: | P7: ='1일'!P7 -> 홍길동
B8: 사 용 자 | C8: 주 행 | K8: 사 용 | L8: 사용목적 | M8: 하이패스 통행료 | N8: 주차료 | O8: 터널 및 현금통행료 | P8: 비 고
C9: 출 발 시 간 | E9: 도 착 시 간 | G9: 장 소 | I9: 주행(㎞) | J9: 총주행(㎞) | K9: 시 간
P10: 출고시
P12: ='23일'!P15 -> 1394
P13: 입고시
P15: =P12 -> 1394
P16: 총주행거리
P17: 합계
P18: =P15-P12 -> 0
P19: 연료주입
P21: 수리및기타
M24: =SUM(M10:M23) -> 0 | N24: =SUM(N10:N23) -> 0 | O24: =SUM(O10:O23) -> 0

Sheet 25일
B2: 차 량 운 행 일 지
B6: ❏ 차 량 번 호 : | D6: ='24일'!D6 -> 1885
B7: ❏ 날 짜: | C7: ='1일'!C7 -> 2024년 | E7: ='1일'!E7 -> 3 | F7: 25 | G7: 월 | H7: 요일 | O7: 기사: | P7: ='1일'!P7 -> 홍길동
B8: 사 용 자 | C8: 주 행 | K8: 사 용 | L8: 사용목적 | M8: 하이패스 통행료 | N8: 주차료 | O8: 터널 및 현금통행료 | P8: 비 고
C9: 출 발 시 간 | E9: 도 착 시 간 | G9: 장 소 | I9: 주행(㎞) | J9: 총주행(㎞) | K9: 시 간
P10: 출고시
P12: ='24일'!P15 -> 1394
P13: 입고시
P15: 1542
P16: 총주행거리
P17: 합계
P18: =P15-P12 -> 148
P19: 연료주입
P20: 14
P21: 수리및기타
M24: =SUM(M10:M23) -> 0 | N24: =SUM(N10:N23) -> 0 | O24: =SUM(O10:O23) -> 0

Sheet 26일
B2: 차 량 운 행 일 지
B6: ❏ 차 량 번 호 : | D6: ='25일'!D6 -> 1885
B7: ❏ 날 짜: | C7: ='1일'!C7 -> 2024년 | E7: ='1일'!E7 -> 3 | F7: 26 | G7: 화 | H7: 요일 | O7: 기사: | P7: ='1일'!P7 -> 홍길동
B8: 사 용 자 | C8: 주 행 | K8: 사 용 | L8: 사용목적 | M8: 하이패스 통행료 | N8: 주차료 | O8: 터널 및 현금통행료 | P8: 비 고
C9: 출 발 시 간 | E9: 도 착 시 간 | G9: 장 소 | I9: 주행(㎞) | J9: 총주행(㎞) | K9: 시 간
P10: 출고시
P12: ='25일'!P15 -> 1542
P13: 입고시
P15: 1584
P16: 총주행거리
P17: 합계
P18: =P15-P12 -> 42
P19: 연료주입
P21: 수리및기타
M24: =SUM(M10:M23) -> 0 | N24: =SUM(N10:N23) -> 0 | O24: =SUM(O10:O23) -> 0

Sheet 27일
B2: 차 량 운 행 일 지
B6: ❏ 차 량 번 호 : | D6: ='26일'!D6 -> 1885
B7: ❏ 날 짜: | C7: ='1일'!C7 -> 2024년 | E7: ='1일'!E7 -> 3 | F7: 27 | G7: 수 | H7: 요일 | O7: 기사: | P7: ='1일'!P7 -> 홍길동
B8: 사 용 자 | C8: 주 행 | K8: 사 용 | L8: 사용목적 | M8: 하이패스 통행료 | N8: 주차료 | O8: 터널 및 현금통행료 | P8: 비 고
C9: 출 발 시 간 | E9: 도 착 시 간 | G9: 장 소 | I9: 주행(㎞) | J9: 총주행(㎞) | K9: 시 간
P10: 출고시
P12: ='26일'!P15 -> 1584
P13: 입고시
P15: 1721
P16: 총주행거리
P17: 합계
P18: =P15-P12 -> 137
P19: 연료주입
P21: 수리및기타
M24: =SUM(M10:M23) -> 0 | N24: =SUM(N10:N23) -> 0 | O24: =SUM(O10:O23) -> 0

Sheet 28일
B2: 차 량 운 행 일 지
B6: ❏ 차 량 번 호 : | D6: ='27일'!D6 -> 1885
B7: ❏ 날 짜: | C7: ='1일'!C7 -> 2024년 | E7: ='1일'!E7 -> 3 | F7: 28 | G7: 목 | H7: 요일 | O7: 기사: | P7: ='1일'!P7 -> 홍길동
B8: 사 용 자 | C8: 주 행 | K8: 사 용 | L8: 사용목적 | M8: 하이패스 통행료 | N8: 주차료 | O8: 터널 및 현금통행료 | P8: 비 고
C9: 출 발 시 간 | E9: 도 착 시 간 | G9: 장 소 | I9: 주행(㎞) | J9: 총주행(㎞) | K9: 시 간
P10: 출고시
P12: ='27일'!P15 -> 1721
P13: 입고시
P15: 1740
P16: 총주행거리
P17: 합계
P18: =P15-P12 -> 19
P19: 연료주입
P20: 61
P21: 수리및기타
M24: =SUM(M10:M23) -> 0 | N24: =SUM(N10:N23) -> 0 | O24: =SUM(O10:O23) -> 0

Sheet 29일
B2: 차 량 운 행 일 지
B6: ❏ 차 량 번 호 : | D6: ='28일'!D6 -> 1885
B7: ❏ 날 짜: | C7: ='1일'!C7 -> 2024년 | E7: ='1일'!E7 -> 3 | F7: 29 | G7: 금 | H7: 요일 | O7: 기사: | P7: ='1일'!P7 -> 홍길동
B8: 사 용 자 | C8: 주 행 | K8: 사 용 | L8: 사용목적 | M8: 하이패스 통행료 | N8: 주차료 | O8: 터널 및 현금통행료 | P8: 비 고
C9: 출 발 시 간 | E9: 도 착 시 간 | G9: 장 소 | I9: 주행(㎞) | J9: 총주행(㎞) | K9: 시 간
P10: 출고시
P12: ='28일'!P15 -> 1740
P13: 입고시
P15: 1781
P16: 총주행거리
P17: 합계
P18: =P15-P12 -> 41
P19: 연료주입
P21: 수리및기타
M24: =SUM(M10:M23) -> 0 | N24: =SUM(N10:N23) -> 0 | O24: =SUM(O10:O23) -> 0

Sheet 30일
B2: 차 량 운 행 일 지
B6: ❏ 차 량 번 호 : | D6: ='29일'!D6 -> 1885
B7: ❏ 날 짜: | C7: ='1일'!C7 -> 2024년 | E7: ='1일'!E7 -> 3 | F7: 30 | G7: 토 | H7: 요일 | O7: 기사: | P7: ='1일'!P7 -> 홍길동
B8: 사 용 자 | C8: 주 행 | K8: 사 용 | L8: 사용목적 | M8: 하이패스 통행료 | N8: 주차료 | O8: 터널 및 현금통행료 | P8: 비 고
C9: 출 발 시 간 | E9: 도 착 시 간 | G9: 장 소 | I9: 주행(㎞) | J9: 총주행(㎞) | K9: 시 간
P10: 출고시
P12: ='29일'!P15 -> 1781
P13: 입고시
P15: 1834
P16: 총주행거리
P17: 합계
P18: =P15-P12 -> 53
P19: 연료주입
P21: 수리및기타
M24: =SUM(M10:M23) -> 0 | N24: =SUM(N10:N23) -> 0 | O24: =SUM(O10:O23) -> 0

Sheet 31일
B2: 차 량 운 행 일 지
B6: ❏ 차 량 번 호 : | D6: ='30일'!D6 -> 1885
B7: ❏ 날 짜: | C7: ='1일'!C7 -> 2024년 | E7: ='1일'!E7 -> 3 | F7: 31 | G7: 일 | H7: 요일 | O7: 기사: | P7: ='1일'!P7 -> 홍길동
B8: 사 용 자 | C8: 주 행 | K8: 사 용 | L8: 사용목적 | M8: 하이패스 통행료 | N8: 주차료 | O8: 터널 및 현금통행료 | P8: 비 고
C9: 출 발 시 간 | E9: 도 착 시 간 | G9: 장 소 | I9: 주행(㎞) | J9: 총주행(㎞) | K9: 시 간
P10: 출고시
P12: ='30일'!P15 -> 1834
P13: 입고시
P15: =P12 -> 1834
P16: 총주행거리
P17: 합계
P18: =P15-P12 -> 0
P19: 연료주입
P21: 수리및기타
M24: =SUM(M10:M23) -> 0 | N24: =SUM(N10:N23) -> 0 | O24: =SUM(O10:O23) -> 0

Sheet 월 차계표
C1: ( | D1: ='1일'!E7 -> 3 | E1: ) 차 계 표
A2: 차량번호: | C2: ='1일'!D6 -> 1885 | G2: 담당기사: | H2: ='1일'!P7 -> 홍길동
A3: 날 짜 | B3: 유류주입 | C3: 내 용 | D3: 세차비 | E3: 하이패스 통행료 | F3: 주 차 요 금 | G3: 터널 및 현금 통행료 | H3: 비 고
A4: 1일 | B4: ='1일'!P20 -> 0 | E4: ='1일'!M24 -> 3000 | F4: ='1일'!N24 -> 4000 | G4: ='1일'!O24 -> 0
A5: 2일 | B5: ='2일'!P20 -> 0 | E5: ='2일'!M24 -> 0 | F5: ='2일'!N24 -> 0 | G5: ='2일'!O24 -> 0 | H5: 월초 주행거리
A6: 3일 | B6: ='3일'!P20 -> 0 | E6: ='3일'!M24 -> 0 | F6: ='3일'!N24 -> 0 | G6: ='3일'!O24 -> 0 | H6: ='1일'!P12 -> 730
A7: 4일 | B7: ='4일'!P20 -> 0 | E7: ='4일'!M24 -> 0 | F7: ='4일'!N24 -> 0 | G7: ='4일'!O24 -> 0
A8: 5일 | B8: ='5일'!P20 -> 53 | E8: ='5일'!M24 -> 0 | F8: ='5일'!N24 -> 0 | G8: ='5일'!O24 -> 0 | H8: 월말 주행거리
A9: 6일 | B9: ='6일'!P20 -> 0 | E9: ='6일'!M24 -> 0 | F9: ='6일'!N24 -> 0 | G9: ='6일'!O24 -> 0 | H9: ='31일'!P15 -> 1834
A10: 7일 | B10: ='7일'!P20 -> 0 | E10: ='7일'!M24 -> 0 | F10: ='7일'!N24 -> 0 | G10: ='7일'!O24 -> 0
A11: 8일 | B11: ='8일'!P20 -> 48 | E11: ='8일'!M24 -> 0 | F11: ='8일'!N24 -> 0 | G11: ='8일'!O24 -> 0 | H11: 월 주행거리
A12: 9일 | B12: ='9일'!P20 -> 0 | E12: ='9일'!M24 -> 0 | F12: ='9일'!N24 -> 0 | G12: ='9일'!O24 -> 0 | H12: =H9-H6 -> 1104
A13: 10일 | B13: ='10일'!P20 -> 0 | E13: ='10일'!M24 -> 0 | F13: ='10일'!N24 -> 0 | G13: ='10일'!O24 -> 0
A14: 11일 | B14: ='11일'!P20 -> 0 | E14: ='11일'!M24 -> 0 | F14: ='11일'!N24 -> 0 | G14: ='11일'!O24 -> 0 | H14: 하이패스 합계
A15: 12일 | B15: ='12일'!P20 -> 0 | E15: ='12일'!M24 -> 0 | F15: ='12일'!N24 -> 0 | G15: ='12일'!O24 -> 0 | H15: =E35 -> 3000
A16: 13일 | B16: ='13일'!P20 -> 0 | E16: ='13일'!M24 -> 0 | F16: ='13일'!N24 -> 0 | G16: ='13일'!O24 -> 0
A17: 14일 | B17: ='14일'!P20 -> 0 | E17: ='14일'!M24 -> 0 | F17: ='14일'!N24 -> 0 | G17: ='14일'!O24 -> 0 | H17: 연 비(km/l)
A18: 15일 | B18: ='15일'!P20 -> 52 | E18: ='15일'!M24 -> 0 | F18: ='15일'!N24 -> 0 | G18: ='15일'!O24 -> 0 | H18: =H12/B35 -> 4.1348315
A19: 16일 | B19: ='16일'!P20 -> 0 | E19: ='16일'!M24 -> 0 | F19: ='16일'!N24 -> 0 | G19: ='16일'!O24 -> 0
A20: 17일 | B20: ='17일'!P20 -> 0 | E20: ='17일'!M24 -> 0 | F20: ='17일'!N24 -> 0 | G20: ='17일'!O24 -> 0
A21: 18일 | B21: ='18일'!P20 -> 0 | E21: ='18일'!M24 -> 0 | F21: ='18일'!N24 -> 0 | G21: ='18일'!O24 -> 0
A22: 19일 | B22: ='19일'!P20 -> 0 | E22: ='19일'!M24 -> 0 | F22: ='19일'!N24 -> 0 | G22: ='19일'!O24 -> 0
A23: 20일 | B23: ='20일'!P20 -> 0 | E23: ='20일'!M24 -> 0 | F23: ='20일'!N24 -> 0 | G23: ='20일'!O24 -> 0
A24: 21일 | B24: ='21일'!P20 -> 39 | E24: ='21일'!M24 -> 0 | F24: ='21일'!N24 -> 0 | G24: ='21일'!O24 -> 0
A25: 22일 | B25: ='22일'!P20 -> 0 | E25: ='22일'!M24 -> 0 | F25: ='22일'!N24 -> 0 | G25: ='22일'!O24 -> 0
A26: 23일 | B26: ='23일'!P20 -> 0 | E26: ='23일'!M24 -> 0 | F26: ='23일'!N24 -> 0 | G26: ='23일'!O24 -> 0
A27: 24일 | B27: ='24일'!P20 -> 0 | E27: ='24일'!M24 -> 0 | F27: ='24일'!N24 -> 0 | G27: ='24일'!O24 -> 0
A28: 25일 | B28: ='25일'!P20 -> 14 | E28: ='25일'!M24 -> 0 | F28: ='25일'!N24 -> 0 | G28: ='25일'!O24 -> 0
A29: 26일 | B29: ='26일'!P20 -> 0 | E29: ='26일'!M24 -> 0 | F29: ='26일'!N24 -> 0 | G29: ='26일'!O24 -> 0
A30: 27일 | B30: ='27일'!P20 -> 0 | E30: ='27일'!M24 -> 0 | F30: ='27일'!N24 -> 0 | G30: ='27일'!O24 -> 0
A31: 28일 | B31: ='28일'!P20 -> 61 | E31: ='28일'!M24 -> 0 | F31: ='28일'!N24 -> 0 | G31: ='28일'!O24 -> 0
A32: 29일 | B32: ='29일'!P20 -> 0 | E32: ='29일'!M24 -> 0 | F32: ='29일'!N24 -> 0 | G32: ='29일'!O24 -> 0
A33: 30일 | B33: ='30일'!P20 -> 0 | D33: 6000 | E33: ='30일'!M24 -> 0 | F33: ='30일'!N24 -> 0 | G33: ='30일'!O24 -> 0
A34: 31일 | B34: ='31일'!P20 -> 0 | E34: ='31일'!M24 -> 0 | F34: ='31일'!N24 -> 0 | G34: ='31일'!O24 -> 0
A35: 월 계 | B35: =SUM(B4:B34) -> 267 | D35: =SUM(D4:D34) -> 6000 | E35: =SUM(E4:E34) -> 3000 | F35: =SUM(F4:F34) -> 4000 | G35: =SUM(G4:G34) -> 0
